BEGIN:VCALENDAR
VERSION:2.0
PRODID:-//eventon.com NONSGML v1.0//EN
CALSCALE:GREGORIAN
METHOD:PUBLISH
BEGIN:VEVENT
UID:69eb3e8b9e236
DTSTAMP:20260424T095731Z
DTSTART:20240708T160000Z
DTEND:20240710T130000Z
LOCATION:Honeyman Memorial Park Jessie M. Honeyman Memorial State Park
SUMMARY:2024 Oregon Camping Trip
DESCRIPTION:The RISE Summer Camping Trip will be July 8th-10th at Jessie M 
 Honeyman Memorial State Park in Florence\,  OR 97439. Group Camp Sites B &a
 mp; C are reserved for RISE.Check in time begins at 4pm on July 8th.Checkou
 t time is 1pm on July 10th.The campsites are fully shaded and near[..]\nhtt
 ps://riseservicesincor.org/news/events/2024-oregon-camping-trip/
URL:https://riseservicesincor.org/news/events/2024-oregon-camping-trip/
END:VEVENT
END:VCALENDAR